BEGIN:VCALENDAR
VERSION:2.0
PRODID:-//filterbuzz - ECPv6.15.20//NONSGML v1.0//EN
CALSCALE:GREGORIAN
METHOD:PUBLISH
X-ORIGINAL-URL:https://filterbuzz.com
X-WR-CALDESC:Events for filterbuzz
REFRESH-INTERVAL;VALUE=DURATION:PT1H
X-Robots-Tag:noindex
X-PUBLISHED-TTL:PT1H
BEGIN:VTIMEZONE
TZID:America/New_York
BEGIN:DAYLIGHT
TZOFFSETFROM:-0500
TZOFFSETTO:-0400
TZNAME:EDT
DTSTART:20240310T070000
END:DAYLIGHT
BEGIN:STANDARD
TZOFFSETFROM:-0400
TZOFFSETTO:-0500
TZNAME:EST
DTSTART:20241103T060000
END:STANDARD
BEGIN:DAYLIGHT
TZOFFSETFROM:-0500
TZOFFSETTO:-0400
TZNAME:EDT
DTSTART:20250309T070000
END:DAYLIGHT
BEGIN:STANDARD
TZOFFSETFROM:-0400
TZOFFSETTO:-0500
TZNAME:EST
DTSTART:20251102T060000
END:STANDARD
BEGIN:DAYLIGHT
TZOFFSETFROM:-0500
TZOFFSETTO:-0400
TZNAME:EDT
DTSTART:20260308T070000
END:DAYLIGHT
BEGIN:STANDARD
TZOFFSETFROM:-0400
TZOFFSETTO:-0500
TZNAME:EST
DTSTART:20261101T060000
END:STANDARD
END:VTIMEZONE
BEGIN:VEVENT
DTSTART;TZID=America/New_York:20250926T183000
DTEND;TZID=America/New_York:20250926T233000
DTSTAMP:20260423T130721
CREATED:20250917T185231Z
LAST-MODIFIED:20250917T185231Z
UID:10006835-1758911400-1758929400@filterbuzz.com
SUMMARY:Atlanta Center for Photography Auction Gala
DESCRIPTION:This year’s gala\, Expanded Aperture\, reflects ACP’s commitment to broadening artistic horizons. Just as an aperture opens to let in more light\, ACP opens new pathways for photographers through artwork commissions\, community collaborations\, and dynamic programming that transforms how we see and engage with the world.
URL:https://filterbuzz.com/event/atlanta-center-for-photography-auction-gala/
LOCATION:Forth Hotel\, 800 Rankin St NW\, Atlanta\, Georgia\, 30308
ATTACH;FMTTYPE=image/jpeg:https://filterbuzz.com/wp-content/uploads/2025/09/atl-center-of-photography-gala.jpeg
GEO:33.7686692;-84.3637654
X-APPLE-STRUCTURED-LOCATION;VALUE=URI;X-ADDRESS=Forth Hotel 800 Rankin St NW Atlanta Georgia 30308;X-APPLE-RADIUS=500;X-TITLE=800 Rankin St NW:geo:-84.3637654,33.7686692
END:VEVENT
END:VCALENDAR