BEGIN:VCALENDAR
VERSION:2.0
PRODID:-//filterbuzz - ECPv6.15.20//NONSGML v1.0//EN
CALSCALE:GREGORIAN
METHOD:PUBLISH
X-WR-CALNAME:filterbuzz
X-ORIGINAL-URL:https://filterbuzz.com
X-WR-CALDESC:Events for filterbuzz
REFRESH-INTERVAL;VALUE=DURATION:PT1H
X-Robots-Tag:noindex
X-PUBLISHED-TTL:PT1H
BEGIN:VTIMEZONE
TZID:America/New_York
BEGIN:DAYLIGHT
TZOFFSETFROM:-0500
TZOFFSETTO:-0400
TZNAME:EDT
DTSTART:20250309T070000
END:DAYLIGHT
BEGIN:STANDARD
TZOFFSETFROM:-0400
TZOFFSETTO:-0500
TZNAME:EST
DTSTART:20251102T060000
END:STANDARD
BEGIN:DAYLIGHT
TZOFFSETFROM:-0500
TZOFFSETTO:-0400
TZNAME:EDT
DTSTART:20260308T070000
END:DAYLIGHT
BEGIN:STANDARD
TZOFFSETFROM:-0400
TZOFFSETTO:-0500
TZNAME:EST
DTSTART:20261101T060000
END:STANDARD
BEGIN:DAYLIGHT
TZOFFSETFROM:-0500
TZOFFSETTO:-0400
TZNAME:EDT
DTSTART:20270314T070000
END:DAYLIGHT
BEGIN:STANDARD
TZOFFSETFROM:-0400
TZOFFSETTO:-0500
TZNAME:EST
DTSTART:20271107T060000
END:STANDARD
END:VTIMEZONE
BEGIN:VEVENT
DTSTART;TZID=America/New_York:20260510T100000
DTEND;TZID=America/New_York:20260510T170000
DTSTAMP:20260423T213311
CREATED:20250917T201038Z
LAST-MODIFIED:20251021T195119Z
UID:10008249-1778407200-1778432400@filterbuzz.com
SUMMARY:Free public access to The Warehouse!
DESCRIPTION:Free public access to The Warehouse takes place on the second Saturday of each month from 10 AM until 5 PM\, with docent tours  at 11 AM and 1 PM.  Please check our website for updates to operating hours. We look forward to welcoming you to The Warehouse.  All visitors to The Warehouse must be 12 or older.  All minors (ages 12-17) must be accompanied by an adult at all times. Pets are not permitted.
URL:https://filterbuzz.com/event/free-public-access-to-the-warehouse/2026-05-10/
LOCATION:The Warehouse\, 1643 Chattahoochee Ave NW\, Atlanta\, 30318
ATTACH;FMTTYPE=image/jpeg:https://filterbuzz.com/wp-content/uploads/2025/09/the-warehouse.jpg
GEO:33.8129772;-84.441738
X-APPLE-STRUCTURED-LOCATION;VALUE=URI;X-ADDRESS=The Warehouse 1643 Chattahoochee Ave NW Atlanta 30318;X-APPLE-RADIUS=500;X-TITLE=1643 Chattahoochee Ave NW:geo:-84.441738,33.8129772
END:VEVENT
BEGIN:VEVENT
DTSTART;TZID=America/New_York:20260510T100000
DTEND;TZID=America/New_York:20260510T170000
DTSTAMP:20260423T213311
CREATED:20251021T194940Z
LAST-MODIFIED:20251021T194941Z
UID:10006850-1778407200-1778432400@filterbuzz.com
SUMMARY:Free public access to The Warehouse!
DESCRIPTION:Free public access to The Warehouse takes place on the second Saturday of each month from 10 AM until 5 PM\, with docent tours  at 11 AM and 1 PM.  Please check our website for updates to operating hours. We look forward to welcoming you to The Warehouse.  All visitors to The Warehouse must be 12 or older.  All minors (ages 12-17) must be accompanied by an adult at all times. Pets are not permitted.
URL:https://filterbuzz.com/event/free-public-access-to-the-warehouse-2/2026-05-10/
LOCATION:The Warehouse\, 1643 Chattahoochee Ave NW\, Atlanta\, 30318
ATTACH;FMTTYPE=image/jpeg:https://filterbuzz.com/wp-content/uploads/2025/09/the-warehouse.jpg
GEO:33.8129772;-84.441738
X-APPLE-STRUCTURED-LOCATION;VALUE=URI;X-ADDRESS=The Warehouse 1643 Chattahoochee Ave NW Atlanta 30318;X-APPLE-RADIUS=500;X-TITLE=1643 Chattahoochee Ave NW:geo:-84.441738,33.8129772
END:VEVENT
BEGIN:VEVENT
DTSTART;TZID=America/New_York:20260614T100000
DTEND;TZID=America/New_York:20260614T170000
DTSTAMP:20260423T213311
CREATED:20250917T201038Z
LAST-MODIFIED:20251021T195119Z
UID:10008250-1781431200-1781456400@filterbuzz.com
SUMMARY:Free public access to The Warehouse!
DESCRIPTION:Free public access to The Warehouse takes place on the second Saturday of each month from 10 AM until 5 PM\, with docent tours  at 11 AM and 1 PM.  Please check our website for updates to operating hours. We look forward to welcoming you to The Warehouse.  All visitors to The Warehouse must be 12 or older.  All minors (ages 12-17) must be accompanied by an adult at all times. Pets are not permitted.
URL:https://filterbuzz.com/event/free-public-access-to-the-warehouse/2026-06-14/
LOCATION:The Warehouse\, 1643 Chattahoochee Ave NW\, Atlanta\, 30318
ATTACH;FMTTYPE=image/jpeg:https://filterbuzz.com/wp-content/uploads/2025/09/the-warehouse.jpg
GEO:33.8129772;-84.441738
X-APPLE-STRUCTURED-LOCATION;VALUE=URI;X-ADDRESS=The Warehouse 1643 Chattahoochee Ave NW Atlanta 30318;X-APPLE-RADIUS=500;X-TITLE=1643 Chattahoochee Ave NW:geo:-84.441738,33.8129772
END:VEVENT
BEGIN:VEVENT
DTSTART;TZID=America/New_York:20260614T100000
DTEND;TZID=America/New_York:20260614T170000
DTSTAMP:20260423T213311
CREATED:20251021T194940Z
LAST-MODIFIED:20251021T194941Z
UID:10006851-1781431200-1781456400@filterbuzz.com
SUMMARY:Free public access to The Warehouse!
DESCRIPTION:Free public access to The Warehouse takes place on the second Saturday of each month from 10 AM until 5 PM\, with docent tours  at 11 AM and 1 PM.  Please check our website for updates to operating hours. We look forward to welcoming you to The Warehouse.  All visitors to The Warehouse must be 12 or older.  All minors (ages 12-17) must be accompanied by an adult at all times. Pets are not permitted.
URL:https://filterbuzz.com/event/free-public-access-to-the-warehouse-2/2026-06-14/
LOCATION:The Warehouse\, 1643 Chattahoochee Ave NW\, Atlanta\, 30318
ATTACH;FMTTYPE=image/jpeg:https://filterbuzz.com/wp-content/uploads/2025/09/the-warehouse.jpg
GEO:33.8129772;-84.441738
X-APPLE-STRUCTURED-LOCATION;VALUE=URI;X-ADDRESS=The Warehouse 1643 Chattahoochee Ave NW Atlanta 30318;X-APPLE-RADIUS=500;X-TITLE=1643 Chattahoochee Ave NW:geo:-84.441738,33.8129772
END:VEVENT
BEGIN:VEVENT
DTSTART;TZID=America/New_York:20260712T100000
DTEND;TZID=America/New_York:20260712T170000
DTSTAMP:20260423T213311
CREATED:20250917T201038Z
LAST-MODIFIED:20251021T195119Z
UID:10008251-1783850400-1783875600@filterbuzz.com
SUMMARY:Free public access to The Warehouse!
DESCRIPTION:Free public access to The Warehouse takes place on the second Saturday of each month from 10 AM until 5 PM\, with docent tours  at 11 AM and 1 PM.  Please check our website for updates to operating hours. We look forward to welcoming you to The Warehouse.  All visitors to The Warehouse must be 12 or older.  All minors (ages 12-17) must be accompanied by an adult at all times. Pets are not permitted.
URL:https://filterbuzz.com/event/free-public-access-to-the-warehouse/2026-07-12/
LOCATION:The Warehouse\, 1643 Chattahoochee Ave NW\, Atlanta\, 30318
ATTACH;FMTTYPE=image/jpeg:https://filterbuzz.com/wp-content/uploads/2025/09/the-warehouse.jpg
GEO:33.8129772;-84.441738
X-APPLE-STRUCTURED-LOCATION;VALUE=URI;X-ADDRESS=The Warehouse 1643 Chattahoochee Ave NW Atlanta 30318;X-APPLE-RADIUS=500;X-TITLE=1643 Chattahoochee Ave NW:geo:-84.441738,33.8129772
END:VEVENT
BEGIN:VEVENT
DTSTART;TZID=America/New_York:20260712T100000
DTEND;TZID=America/New_York:20260712T170000
DTSTAMP:20260423T213311
CREATED:20251021T194940Z
LAST-MODIFIED:20251021T194941Z
UID:10006852-1783850400-1783875600@filterbuzz.com
SUMMARY:Free public access to The Warehouse!
DESCRIPTION:Free public access to The Warehouse takes place on the second Saturday of each month from 10 AM until 5 PM\, with docent tours  at 11 AM and 1 PM.  Please check our website for updates to operating hours. We look forward to welcoming you to The Warehouse.  All visitors to The Warehouse must be 12 or older.  All minors (ages 12-17) must be accompanied by an adult at all times. Pets are not permitted.
URL:https://filterbuzz.com/event/free-public-access-to-the-warehouse-2/2026-07-12/
LOCATION:The Warehouse\, 1643 Chattahoochee Ave NW\, Atlanta\, 30318
ATTACH;FMTTYPE=image/jpeg:https://filterbuzz.com/wp-content/uploads/2025/09/the-warehouse.jpg
GEO:33.8129772;-84.441738
X-APPLE-STRUCTURED-LOCATION;VALUE=URI;X-ADDRESS=The Warehouse 1643 Chattahoochee Ave NW Atlanta 30318;X-APPLE-RADIUS=500;X-TITLE=1643 Chattahoochee Ave NW:geo:-84.441738,33.8129772
END:VEVENT
BEGIN:VEVENT
DTSTART;TZID=America/New_York:20260809T100000
DTEND;TZID=America/New_York:20260809T170000
DTSTAMP:20260423T213311
CREATED:20250917T201038Z
LAST-MODIFIED:20251021T195119Z
UID:10008252-1786269600-1786294800@filterbuzz.com
SUMMARY:Free public access to The Warehouse!
DESCRIPTION:Free public access to The Warehouse takes place on the second Saturday of each month from 10 AM until 5 PM\, with docent tours  at 11 AM and 1 PM.  Please check our website for updates to operating hours. We look forward to welcoming you to The Warehouse.  All visitors to The Warehouse must be 12 or older.  All minors (ages 12-17) must be accompanied by an adult at all times. Pets are not permitted.
URL:https://filterbuzz.com/event/free-public-access-to-the-warehouse/2026-08-09/
LOCATION:The Warehouse\, 1643 Chattahoochee Ave NW\, Atlanta\, 30318
ATTACH;FMTTYPE=image/jpeg:https://filterbuzz.com/wp-content/uploads/2025/09/the-warehouse.jpg
GEO:33.8129772;-84.441738
X-APPLE-STRUCTURED-LOCATION;VALUE=URI;X-ADDRESS=The Warehouse 1643 Chattahoochee Ave NW Atlanta 30318;X-APPLE-RADIUS=500;X-TITLE=1643 Chattahoochee Ave NW:geo:-84.441738,33.8129772
END:VEVENT
BEGIN:VEVENT
DTSTART;TZID=America/New_York:20260809T100000
DTEND;TZID=America/New_York:20260809T170000
DTSTAMP:20260423T213311
CREATED:20251021T194940Z
LAST-MODIFIED:20251021T194941Z
UID:10006853-1786269600-1786294800@filterbuzz.com
SUMMARY:Free public access to The Warehouse!
DESCRIPTION:Free public access to The Warehouse takes place on the second Saturday of each month from 10 AM until 5 PM\, with docent tours  at 11 AM and 1 PM.  Please check our website for updates to operating hours. We look forward to welcoming you to The Warehouse.  All visitors to The Warehouse must be 12 or older.  All minors (ages 12-17) must be accompanied by an adult at all times. Pets are not permitted.
URL:https://filterbuzz.com/event/free-public-access-to-the-warehouse-2/2026-08-09/
LOCATION:The Warehouse\, 1643 Chattahoochee Ave NW\, Atlanta\, 30318
ATTACH;FMTTYPE=image/jpeg:https://filterbuzz.com/wp-content/uploads/2025/09/the-warehouse.jpg
GEO:33.8129772;-84.441738
X-APPLE-STRUCTURED-LOCATION;VALUE=URI;X-ADDRESS=The Warehouse 1643 Chattahoochee Ave NW Atlanta 30318;X-APPLE-RADIUS=500;X-TITLE=1643 Chattahoochee Ave NW:geo:-84.441738,33.8129772
END:VEVENT
BEGIN:VEVENT
DTSTART;TZID=America/New_York:20260913T100000
DTEND;TZID=America/New_York:20260913T170000
DTSTAMP:20260423T213311
CREATED:20250917T201038Z
LAST-MODIFIED:20251021T195119Z
UID:10008253-1789293600-1789318800@filterbuzz.com
SUMMARY:Free public access to The Warehouse!
DESCRIPTION:Free public access to The Warehouse takes place on the second Saturday of each month from 10 AM until 5 PM\, with docent tours  at 11 AM and 1 PM.  Please check our website for updates to operating hours. We look forward to welcoming you to The Warehouse.  All visitors to The Warehouse must be 12 or older.  All minors (ages 12-17) must be accompanied by an adult at all times. Pets are not permitted.
URL:https://filterbuzz.com/event/free-public-access-to-the-warehouse/2026-09-13/
LOCATION:The Warehouse\, 1643 Chattahoochee Ave NW\, Atlanta\, 30318
ATTACH;FMTTYPE=image/jpeg:https://filterbuzz.com/wp-content/uploads/2025/09/the-warehouse.jpg
GEO:33.8129772;-84.441738
X-APPLE-STRUCTURED-LOCATION;VALUE=URI;X-ADDRESS=The Warehouse 1643 Chattahoochee Ave NW Atlanta 30318;X-APPLE-RADIUS=500;X-TITLE=1643 Chattahoochee Ave NW:geo:-84.441738,33.8129772
END:VEVENT
BEGIN:VEVENT
DTSTART;TZID=America/New_York:20260913T100000
DTEND;TZID=America/New_York:20260913T170000
DTSTAMP:20260423T213311
CREATED:20251021T194940Z
LAST-MODIFIED:20251021T194941Z
UID:10006854-1789293600-1789318800@filterbuzz.com
SUMMARY:Free public access to The Warehouse!
DESCRIPTION:Free public access to The Warehouse takes place on the second Saturday of each month from 10 AM until 5 PM\, with docent tours  at 11 AM and 1 PM.  Please check our website for updates to operating hours. We look forward to welcoming you to The Warehouse.  All visitors to The Warehouse must be 12 or older.  All minors (ages 12-17) must be accompanied by an adult at all times. Pets are not permitted.
URL:https://filterbuzz.com/event/free-public-access-to-the-warehouse-2/2026-09-13/
LOCATION:The Warehouse\, 1643 Chattahoochee Ave NW\, Atlanta\, 30318
ATTACH;FMTTYPE=image/jpeg:https://filterbuzz.com/wp-content/uploads/2025/09/the-warehouse.jpg
GEO:33.8129772;-84.441738
X-APPLE-STRUCTURED-LOCATION;VALUE=URI;X-ADDRESS=The Warehouse 1643 Chattahoochee Ave NW Atlanta 30318;X-APPLE-RADIUS=500;X-TITLE=1643 Chattahoochee Ave NW:geo:-84.441738,33.8129772
END:VEVENT
BEGIN:VEVENT
DTSTART;TZID=America/New_York:20261011T100000
DTEND;TZID=America/New_York:20261011T170000
DTSTAMP:20260423T213311
CREATED:20250917T201038Z
LAST-MODIFIED:20251021T195119Z
UID:10008254-1791712800-1791738000@filterbuzz.com
SUMMARY:Free public access to The Warehouse!
DESCRIPTION:Free public access to The Warehouse takes place on the second Saturday of each month from 10 AM until 5 PM\, with docent tours  at 11 AM and 1 PM.  Please check our website for updates to operating hours. We look forward to welcoming you to The Warehouse.  All visitors to The Warehouse must be 12 or older.  All minors (ages 12-17) must be accompanied by an adult at all times. Pets are not permitted.
URL:https://filterbuzz.com/event/free-public-access-to-the-warehouse/2026-10-11/
LOCATION:The Warehouse\, 1643 Chattahoochee Ave NW\, Atlanta\, 30318
ATTACH;FMTTYPE=image/jpeg:https://filterbuzz.com/wp-content/uploads/2025/09/the-warehouse.jpg
GEO:33.8129772;-84.441738
X-APPLE-STRUCTURED-LOCATION;VALUE=URI;X-ADDRESS=The Warehouse 1643 Chattahoochee Ave NW Atlanta 30318;X-APPLE-RADIUS=500;X-TITLE=1643 Chattahoochee Ave NW:geo:-84.441738,33.8129772
END:VEVENT
BEGIN:VEVENT
DTSTART;TZID=America/New_York:20261011T100000
DTEND;TZID=America/New_York:20261011T170000
DTSTAMP:20260423T213311
CREATED:20251021T194940Z
LAST-MODIFIED:20251021T194941Z
UID:10006855-1791712800-1791738000@filterbuzz.com
SUMMARY:Free public access to The Warehouse!
DESCRIPTION:Free public access to The Warehouse takes place on the second Saturday of each month from 10 AM until 5 PM\, with docent tours  at 11 AM and 1 PM.  Please check our website for updates to operating hours. We look forward to welcoming you to The Warehouse.  All visitors to The Warehouse must be 12 or older.  All minors (ages 12-17) must be accompanied by an adult at all times. Pets are not permitted.
URL:https://filterbuzz.com/event/free-public-access-to-the-warehouse-2/2026-10-11/
LOCATION:The Warehouse\, 1643 Chattahoochee Ave NW\, Atlanta\, 30318
ATTACH;FMTTYPE=image/jpeg:https://filterbuzz.com/wp-content/uploads/2025/09/the-warehouse.jpg
GEO:33.8129772;-84.441738
X-APPLE-STRUCTURED-LOCATION;VALUE=URI;X-ADDRESS=The Warehouse 1643 Chattahoochee Ave NW Atlanta 30318;X-APPLE-RADIUS=500;X-TITLE=1643 Chattahoochee Ave NW:geo:-84.441738,33.8129772
END:VEVENT
END:VCALENDAR